BEGIN:VCALENDAR
VERSION:2.0
PRODID:-//Midtown, Inc. - ECPv6.15.20//NONSGML v1.0//EN
CALSCALE:GREGORIAN
METHOD:PUBLISH
X-ORIGINAL-URL:https://midtowncolumbusga.org
X-WR-CALDESC:Events for Midtown, Inc.
REFRESH-INTERVAL;VALUE=DURATION:PT1H
X-Robots-Tag:noindex
X-PUBLISHED-TTL:PT1H
BEGIN:VTIMEZONE
TZID:America/New_York
BEGIN:DAYLIGHT
TZOFFSETFROM:-0500
TZOFFSETTO:-0400
TZNAME:EDT
DTSTART:20190310T070000
END:DAYLIGHT
BEGIN:STANDARD
TZOFFSETFROM:-0400
TZOFFSETTO:-0500
TZNAME:EST
DTSTART:20191103T060000
END:STANDARD
BEGIN:DAYLIGHT
TZOFFSETFROM:-0500
TZOFFSETTO:-0400
TZNAME:EDT
DTSTART:20200308T070000
END:DAYLIGHT
BEGIN:STANDARD
TZOFFSETFROM:-0400
TZOFFSETTO:-0500
TZNAME:EST
DTSTART:20201101T060000
END:STANDARD
BEGIN:DAYLIGHT
TZOFFSETFROM:-0500
TZOFFSETTO:-0400
TZNAME:EDT
DTSTART:20210314T070000
END:DAYLIGHT
BEGIN:STANDARD
TZOFFSETFROM:-0400
TZOFFSETTO:-0500
TZNAME:EST
DTSTART:20211107T060000
END:STANDARD
BEGIN:DAYLIGHT
TZOFFSETFROM:-0500
TZOFFSETTO:-0400
TZNAME:EDT
DTSTART:20220313T070000
END:DAYLIGHT
BEGIN:STANDARD
TZOFFSETFROM:-0400
TZOFFSETTO:-0500
TZNAME:EST
DTSTART:20221106T060000
END:STANDARD
BEGIN:DAYLIGHT
TZOFFSETFROM:-0500
TZOFFSETTO:-0400
TZNAME:EDT
DTSTART:20230312T070000
END:DAYLIGHT
BEGIN:STANDARD
TZOFFSETFROM:-0400
TZOFFSETTO:-0500
TZNAME:EST
DTSTART:20231105T060000
END:STANDARD
END:VTIMEZONE
BEGIN:VEVENT
DTSTART;VALUE=DATE:20220225
DTEND;VALUE=DATE:20220226
DTSTAMP:20260423T143334
CREATED:20220207T193750Z
LAST-MODIFIED:20220207T193750Z
UID:26650-1645747200-1645833599@midtowncolumbusga.org
SUMMARY:Happy Birthday Lumilane!
DESCRIPTION:Follow along on our social media for updates on Lumilane’s birthday bash!
URL:https://midtowncolumbusga.org/event/happy-birthday-lumilane/
END:VEVENT
BEGIN:VEVENT
DTSTART;TZID=America/New_York:20220224T180000
DTEND;TZID=America/New_York:20220224T180000
DTSTAMP:20260423T143334
CREATED:20220207T220125Z
LAST-MODIFIED:20220207T220125Z
UID:26672-1645725600-1645725600@midtowncolumbusga.org
SUMMARY:Fetch Park Bing-GO!
DESCRIPTION:
URL:https://midtowncolumbusga.org/event/fetch-park-bing-go-3/
END:VEVENT
BEGIN:VEVENT
DTSTART;TZID=America/New_York:20220221T180000
DTEND;TZID=America/New_York:20220221T200000
DTSTAMP:20260423T143334
CREATED:20220207T193216Z
LAST-MODIFIED:20220207T215804Z
UID:26636-1645466400-1645473600@midtowncolumbusga.org
SUMMARY:Fetch Park Trivia Night!
DESCRIPTION:Trivia is free to play! Bring some friends\, pet some pups\, and win some cool prizes.
URL:https://midtowncolumbusga.org/event/fetch-park-trivia-night-3/
END:VEVENT
BEGIN:VEVENT
DTSTART;VALUE=DATE:20220219
DTEND;VALUE=DATE:20220220
DTSTAMP:20260423T143334
CREATED:20220207T194318Z
LAST-MODIFIED:20220207T194318Z
UID:26658-1645228800-1645315199@midtowncolumbusga.org
SUMMARY:Bike Columbus City Ride
DESCRIPTION:Bicycle Columbus is hosting a local bicycle ride for any local riders who would like to join.
URL:https://midtowncolumbusga.org/event/bike-columbus-city-ride/
END:VEVENT
BEGIN:VEVENT
DTSTART;VALUE=DATE:20220219
DTEND;VALUE=DATE:20220220
DTSTAMP:20260423T143334
CREATED:20220207T193519Z
LAST-MODIFIED:20220207T193519Z
UID:26644-1645228800-1645315199@midtowncolumbusga.org
SUMMARY:Fetch Park Military Night
DESCRIPTION:Military customers get 15% off at the bar!
URL:https://midtowncolumbusga.org/event/fetch-park-military-night/
END:VEVENT
BEGIN:VEVENT
DTSTART;TZID=America/New_York:20220218T200000
DTEND;TZID=America/New_York:20220218T200000
DTSTAMP:20260423T143334
CREATED:20220207T194521Z
LAST-MODIFIED:20220207T194521Z
UID:26662-1645214400-1645214400@midtowncolumbusga.org
SUMMARY:Midtown Coffee Trivia Night!
DESCRIPTION:Different theme each week! $5/team. \n1st and 2nd place prizes! Join us!
URL:https://midtowncolumbusga.org/event/midtown-coffee-trivia-night/
END:VEVENT
BEGIN:VEVENT
DTSTART;TZID=America/New_York:20220218T190000
DTEND;TZID=America/New_York:20220218T210000
DTSTAMP:20260423T143334
CREATED:20220207T193354Z
LAST-MODIFIED:20220207T193354Z
UID:26640-1645210800-1645218000@midtowncolumbusga.org
SUMMARY:Fetch Park Live Music
DESCRIPTION:Come out and enjoy live music from local artists every Friday at 7pm! Sit down \, drink some good beer\, pet some pups and enjoy the start of the weekend with us!
URL:https://midtowncolumbusga.org/event/fetch-park-live-music-2/
END:VEVENT
BEGIN:VEVENT
DTSTART;TZID=America/New_York:20220217T180000
DTEND;TZID=America/New_York:20220217T180000
DTSTAMP:20260423T143334
CREATED:20220207T220054Z
LAST-MODIFIED:20220207T220054Z
UID:26670-1645120800-1645120800@midtowncolumbusga.org
SUMMARY:Fetch Park Bing-GO!
DESCRIPTION:
URL:https://midtowncolumbusga.org/event/fetch-park-bing-go-2/
END:VEVENT
BEGIN:VEVENT
DTSTART;VALUE=DATE:20220215
DTEND;VALUE=DATE:20220216
DTSTAMP:20260423T143334
CREATED:20220207T193952Z
LAST-MODIFIED:20220207T193952Z
UID:26654-1644883200-1644969599@midtowncolumbusga.org
SUMMARY:Park Place Interiors x Matouk Valentine's Savings!
DESCRIPTION:Shop Matouk linens at Park Place on Feb. 14 and 15 for 20% off your custom order. Matouk’s luxury linens are the perfect way to refresh your home and baths.
URL:https://midtowncolumbusga.org/event/park-place-interiors-x-matouk-valentines-savings-2/
END:VEVENT
BEGIN:VEVENT
DTSTART;TZID=America/New_York:20220214T180000
DTEND;TZID=America/New_York:20220214T200000
DTSTAMP:20260423T143334
CREATED:20220207T193120Z
LAST-MODIFIED:20220207T215718Z
UID:26634-1644861600-1644868800@midtowncolumbusga.org
SUMMARY:Fetch Park Trivia Night!
DESCRIPTION:Trivia is free to play! Bring some friends\, pet some pups\, and win some cool prizes.
URL:https://midtowncolumbusga.org/event/fetch-park-trivia-night-2/
END:VEVENT
BEGIN:VEVENT
DTSTART;VALUE=DATE:20220214
DTEND;VALUE=DATE:20220215
DTSTAMP:20260423T143334
CREATED:20220207T194038Z
LAST-MODIFIED:20220207T194038Z
UID:26656-1644796800-1644883199@midtowncolumbusga.org
SUMMARY:Shop MidTown Merch for your LOVE!
DESCRIPTION:Head over to our “Donate” page to shop merchandise including art and MidTown items!
URL:https://midtowncolumbusga.org/event/shop-midtown-merch-for-your-love/
END:VEVENT
BEGIN:VEVENT
DTSTART;VALUE=DATE:20220214
DTEND;VALUE=DATE:20220215
DTSTAMP:20260423T143334
CREATED:20220207T193923Z
LAST-MODIFIED:20220207T193923Z
UID:26652-1644796800-1644883199@midtowncolumbusga.org
SUMMARY:Park Place Interiors x Matouk Valentines Savings!
DESCRIPTION:Shop Matouk linens at Park Place on Feb. 14 and 15 for 20% off your custom order. Matouk’s luxury linens are the perfect way to refresh your home and baths.
URL:https://midtowncolumbusga.org/event/park-place-interiors-x-matouk-valentines-savings/
END:VEVENT
BEGIN:VEVENT
DTSTART;VALUE=DATE:20220212
DTEND;VALUE=DATE:20220213
DTSTAMP:20260423T143334
CREATED:20220207T193602Z
LAST-MODIFIED:20220207T193602Z
UID:26646-1644624000-1644710399@midtowncolumbusga.org
SUMMARY:Fetch Park Military Night
DESCRIPTION:Military Customers get 15% off at the bar!
URL:https://midtowncolumbusga.org/event/fetch-park-military-night-2/
END:VEVENT
BEGIN:VEVENT
DTSTART;TZID=America/New_York:20220211T200000
DTEND;TZID=America/New_York:20220211T200000
DTSTAMP:20260423T143334
CREATED:20220207T194450Z
LAST-MODIFIED:20220207T194450Z
UID:26660-1644609600-1644609600@midtowncolumbusga.org
SUMMARY:Midtown Coffee Trivia
DESCRIPTION:Different theme each week! $5/team. \n1st and 2nd place prizes! Join us!
URL:https://midtowncolumbusga.org/event/midtown-coffee-trivia/
END:VEVENT
BEGIN:VEVENT
DTSTART;TZID=America/New_York:20220211T190000
DTEND;TZID=America/New_York:20220211T210000
DTSTAMP:20260423T143334
CREATED:20220207T193316Z
LAST-MODIFIED:20220207T193316Z
UID:26638-1644606000-1644613200@midtowncolumbusga.org
SUMMARY:Fetch Park Live Music
DESCRIPTION:Head over to Fetch and enjoy live music from local artists every Friday at 7pm! Sit down \, drink some good beer\, pet some pups and enjoy the start of the weekend with us!
URL:https://midtowncolumbusga.org/event/fetch-park-live-music/
END:VEVENT
BEGIN:VEVENT
DTSTART;TZID=America/New_York:20220210T180000
DTEND;TZID=America/New_York:20220210T180000
DTSTAMP:20260423T143334
CREATED:20220207T220032Z
LAST-MODIFIED:20220207T220032Z
UID:26668-1644516000-1644516000@midtowncolumbusga.org
SUMMARY:Fetch Park Bing-GO!
DESCRIPTION:
URL:https://midtowncolumbusga.org/event/fetch-park-bing-go/
END:VEVENT
BEGIN:VEVENT
DTSTART;TZID=America/New_York:20220207T180000
DTEND;TZID=America/New_York:20220207T200000
DTSTAMP:20260423T143334
CREATED:20220207T193042Z
LAST-MODIFIED:20220207T215826Z
UID:26632-1644256800-1644264000@midtowncolumbusga.org
SUMMARY:Fetch Park Trivia Night!
DESCRIPTION:Trivia is free to play! Bring some friends\, pet some pups\, and win some cool prizes.
URL:https://midtowncolumbusga.org/event/fetch-park-trivia-night/
END:VEVENT
BEGIN:VEVENT
DTSTART;TZID=America/New_York:20220205T090000
DTEND;TZID=America/New_York:20220205T100000
DTSTAMP:20260423T143334
CREATED:20220126T201232Z
LAST-MODIFIED:20220126T201232Z
UID:26605-1644051600-1644055200@midtowncolumbusga.org
SUMMARY:Just Breathe Kids Yoga Drop In Class
DESCRIPTION:
URL:https://midtowncolumbusga.org/event/just-breathe-kids-yoga-drop-in-class/
END:VEVENT
BEGIN:VEVENT
DTSTART;TZID=America/New_York:20210424T000000
DTEND;TZID=America/New_York:20210424T000000
DTSTAMP:20260423T143334
CREATED:20210323T191101Z
LAST-MODIFIED:20210323T191835Z
UID:26179-1619222400-1619222400@midtowncolumbusga.org
SUMMARY:Clean MidTown
DESCRIPTION:
URL:https://midtowncolumbusga.org/event/clean-midtown/
END:VEVENT
BEGIN:VEVENT
DTSTART;TZID=America/New_York:20201121T100000
DTEND;TZID=America/New_York:20201220T220000
DTSTAMP:20260423T143334
CREATED:20200305T191006Z
LAST-MODIFIED:20201124T175358Z
UID:620-1605952800-1608501600@midtowncolumbusga.org
SUMMARY:LightUp MidTown
DESCRIPTION:LightUp MidTown  \nART MAP \nMidtown Inc. is excited to announce its community project\, Light Up Midtown\, a celebration of unity and community through art. Art can be a catalyst to create energy and change. Light up Midtown is a special installation that can bring a new identity to the 13th Street corridor.\n\nStarting the weekend of November 21st through December 21st\, Midtown Inc. will bring a variety of permanent and temporary art installations to view in public spaces along the 13th Street Corridor\, allowing for an easy and socially-distant community engagement. The permanent and temporary artworks curated in this public space exhibition will be placed in the façade of buildings along the 13th street corridor from 10th to 13th street. There are four permanent murals and eleven temporary two-dimensional and three-dimensional works placed along with the street’s four blocks.\n\nThe event is a partnership between Midtown Inc. and Columbus State University. Hannah Israel\, Professor of Art at Columbus State University\, is leading the artist selection and curation on this project. The artists selected to participate are local and regional emerging and established artists. The chosen artists were prioritized because of their diverse backgrounds and ideas.\n \n  \nThis event was funded in part through a grant from the Knight Foundation Fund at the Community Foundation of the Chattahoochee Valley\, Inc. along with the following sponsors: \nColumbus 2025 \nGeorgia Power \nPiggly Wiggly \nAnkerPak \nKoppang Properties
URL:https://midtowncolumbusga.org/event/lightup-midtown/
LOCATION:MidTown Columbus GA\, 1141 13th Street\, Columbus\, GA\, 31901\, United States
END:VEVENT
END:VCALENDAR